{"text_format":"3","workbook":"xlsx","n_sheets":12,"sheets":["別記様式第１号","別紙１","別紙２－(１)【短時間正規雇用導入支援】","別紙２－(２)【短時間正規雇用導入支援】","別紙２－(3)【短時間正規雇用導入支援】","別紙３－(１)【ベビーシッター等活用支援】","別紙３－(２)【ベビーシッター等活用支援】","別紙3－(3)【ベビーシッター等活用支援】 ","別紙４－(１)【宿直等代替職員活用支援】","別紙４－(２)【宿直等代替職員活用支援】","別紙４－(２)別紙（代替者複数）【宿直等代替職員活用支援】","別紙４－(3)【宿直等代替職員活用支援】 "],"not_rendered":{"defined_names":10,"comments":1},"read":"whole","date_system":"1900"}

{"sheet":"別記様式第１号","index":0,"n_rows":34,"n_cols":4,"rows_kept":34,"merged":[[0,0,0,4],[1,0,1,2],[1,3,1,4],[2,3,2,4],[3,0,3,4],[4,0,4,1],[4,2,4,4],[6,3,6,4],[7,3,7,4],[8,3,8,4],[9,0,9,4],[10,0,10,4],[11,0,11,4],[12,0,12,4],[13,0,13,4],[19,0,19,4],[20,0,20,1],[20,2,20,4],[21,0,21,1],[21,2,21,4],[22,0,22,1],[22,2,22,4],[24,0,24,4],[25,0,25,4],[27,0,27,4],[28,0,28,4],[29,0,29,4],[30,0,30,4],[31,0,31,4],[32,0,32,4],[33,0,33,4]]}
["別記様式第３号"]
[{"$nulls":3},"第　　号 "]
[{"$nulls":3},"令和　年　月　日"]
[]
["広　島　県　知　事　様"]
[]
[null,null,"所在地"]
[null,null,"名　称"]
[null,null,"代表者"]
[]
["女性医師等就労環境整備事業補助金事業実績報告書"]
[]
["　令和 年 月 日付け医基第    号で交付決定を受けたこのことについて、次のとおり"]
["関係書類を添えて報告します。"]
[]
["１　精算額","金 ","円"]
[]
["２　精算額調書","別紙１"]
[]
["３　精算額明細書・事業実績報告書・成果報告書"]
["(１)女性医師等短時間正規雇用導入支援事業 ",null,"別紙２－(１)～(３)"]
["(２)ベビーシッター等活用支援事業   ",null,"別紙３－(１)～(３)"]
["(３)宿直等代替職員活用支援事業      ",null,"別紙４－(１)～(３)"]
[]
["４　歳入歳出決算（見込）書の抄本"]
["※歳入歳出決算(見込)書には、当該事業にかかる経費である旨を関係部分に付記すること。"]
[]
["５ 添付資料"]
["その他参考となる資料"]
["・女性医師等短時間正規雇用制度によって雇用されている女性医師等の給与明細の写し"]
["・ベビーシッター等保育サービスを利用した際の領収書の写し"]
["・宿直等代替職員活用支援事業による代替医師の給与明細の写し"]
["・宿直等代替職員活用支援事業による宿直等免除医師及び代替医師の宿直等勤務実"]
["・績の有無のわかる出勤簿及び当直表等"]

{"sheet":"別紙１","index":1,"n_rows":17,"n_cols":12,"rows_kept":17,"merged":[[1,0,1,11],[2,0,2,11],[3,0,3,11],[4,0,4,11],[5,0,5,11],[6,0,7,0],[13,0,13,11],[14,0,14,11],[15,0,15,11],[16,0,16,11]]}
[]
["別紙１"]
[]
["精　算　額　調　書"]
[]
["(医療機関名　　　　　　　　　　　        )"]
["事　業　名","総事業費\n","寄付金その 他の収入額 ","差引事業費 (A)―(B)","対象経費の 実支出額","基準額\n","選定額\n","補助基本額\n ","補助所要額\n ","補助交付決定額","補助受入\n済額","差引\n過不足額\n（H)-(J)"]
[null,"(A)","(B)","(C)","(D)","(E)","(F)","(G)","(H)","(I)","(J)","(K)"]
[null,"円","円","円","円","円","円","円","円","円","円","円"]
["女性医師等短時間正規雇用導入支援事業",{"$f":"'別紙２－(１)【短時間正規雇用導入支援】'!C21","v":{"v":0,"d":"0 "}},{"v":0,"d":"0 "},{"$f":"B10-C10","v":{"v":0,"d":"0 "}},{"$nulls":3},{"$f":"MIN(D10,G10)","v":{"v":0,"d":"0 "}},{"$f":"ROUNDDOWN(H10*1/2,-3)","v":{"v":0,"d":"0 "}},null,{"v":0,"d":"0 "},{"$f":"ROUNDDOWN(I10-K10,-3)","v":{"v":0,"d":"0 "}}]
["ベビーシッター等活用支援事業",{"$f":"'別紙３－(１)【ベビーシッター等活用支援】'!C21","v":{"v":0,"d":"0 "}},{"v":0,"d":"0 "},{"$f":"B11-C11","v":{"v":0,"d":"0 "}},{"$nulls":3},{"$f":"MIN(D11,G11)","v":{"v":0,"d":"0 "}},{"$f":"ROUNDDOWN(H11*1/2,-3)","v":{"v":0,"d":"0 "}},null,{"v":0,"d":"0 "},{"$f":"ROUNDDOWN(I11-K11,-3)","v":{"v":0,"d":"0 "}}]
["宿直等代替職員活用支援事業",{"$f":"'別紙４－(１)【宿直等代替職員活用支援】'!C21","v":{"v":0,"d":"0 "}},{"v":0,"d":"0 "},{"$f":"B12-C12","v":{"v":0,"d":"0 "}},{"$nulls":3},{"$f":"MIN(D12,G12)","v":{"v":0,"d":"0 "}},{"$f":"ROUNDDOWN(H12*1/2,-3)","v":{"v":0,"d":"0 "}},null,{"v":0,"d":"0 "},{"$f":"ROUNDDOWN(I12-K12,-3)","v":{"v":0,"d":"0 "}}]
["合　　計",{"$f":"SUM(B10:B12)","v":{"v":0,"d":"0 "}},{"v":0,"d":"0 "},{"v":0,"d":"0 "},{"v":0,"d":"0 "},{"v":0,"d":"0 "},{"v":0,"d":"0 "},{"v":0,"d":"0 "},{"v":0,"d":"0 "},{"v":0,"d":"0 "},{"v":0,"d":"0 "},{"v":0,"d":"0 "}]
[]
[" (注)１ (F)欄は、(D)と(E)とを比較して少ない方の額を記入すること。"]
["     ２ (G)欄は、(C)と(F)とを比較して少ない方の額を記入すること。"]
["　　 ３ (H)欄は、(G)の金額に、交付要綱第３条「別表１」で定めた補助率を乗じて算出した額を記入すること。\n"]

{"sheet":"別紙２－(１)【短時間正規雇用導入支援】","index":2,"n_rows":24,"n_cols":10,"rows_kept":24,"merged":[[0,0,0,4],[1,0,1,4],[2,0,2,4],[3,0,3,4],[4,0,4,4],[5,0,20,0],[5,4,20,4],[22,0,22,4],[23,0,23,4]]}
["別紙２－(１)"]
[]
["女性医師等短時間正規雇用導入支援事業　精算額明細書"]
["(医療機関名：　　　　　　　　　　　    )"]
[]
[null,"区　分","支出済額(円)","算出内訳",null,null,"※確認欄（事業者の記入は不要です。）"]
[{"$nulls":7},"基　準　額\n(上限額を下回る月がない場合）","実支出額（月）","選定額"]
[{"$nulls":6},"４月",{"$f":"IF('別紙２－(２)【短時間正規雇用導入支援】'!D9=0,0,350000)","v":{"v":0,"d":"0 "}},{"$f":"'別紙２－(２)【短時間正規雇用導入支援】'!F9","v":{"v":0,"d":"0 "}},{"$f":"MIN(H8,I8)","v":{"v":0,"d":"0 "}}]
[{"$nulls":6},"５月",{"$f":"IF('別紙２－(２)【短時間正規雇用導入支援】'!D10=0,0,350000)","v":{"v":0,"d":"0 "}},{"$f":"'別紙２－(２)【短時間正規雇用導入支援】'!F10","v":0},{"v":0,"d":"0 "}]
[{"$nulls":6},"６月",{"$f":"IF('別紙２－(２)【短時間正規雇用導入支援】'!D11=0,0,350000)","v":{"v":0,"d":"0 "}},{"$f":"'別紙２－(２)【短時間正規雇用導入支援】'!F11","v":0},{"v":0,"d":"0 "}]
[{"$nulls":6},"７月",{"$f":"IF('別紙２－(２)【短時間正規雇用導入支援】'!D12=0,0,350000)","v":{"v":0,"d":"0 "}},{"$f":"'別紙２－(２)【短時間正規雇用導入支援】'!F12","v":0},{"v":0,"d":"0 "}]
[{"$nulls":6},"８月",{"$f":"IF('別紙２－(２)【短時間正規雇用導入支援】'!D13=0,0,350000)","v":{"v":0,"d":"0 "}},{"$f":"'別紙２－(２)【短時間正規雇用導入支援】'!F13","v":0},{"v":0,"d":"0 "}]
[{"$nulls":6},"９月",{"$f":"IF('別紙２－(２)【短時間正規雇用導入支援】'!D14=0,0,350000)","v":{"v":0,"d":"0 "}},{"$f":"'別紙２－(２)【短時間正規雇用導入支援】'!F14","v":0},{"v":0,"d":"0 "}]
[{"$nulls":6},"１０月",{"$f":"IF('別紙２－(２)【短時間正規雇用導入支援】'!D15=0,0,350000)","v":{"v":0,"d":"0 "}},{"$f":"'別紙２－(２)【短時間正規雇用導入支援】'!F15","v":0},{"v":0,"d":"0 "}]
[{"$nulls":6},"１１月",{"$f":"IF('別紙２－(２)【短時間正規雇用導入支援】'!D16=0,0,350000)","v":{"v":0,"d":"0 "}},{"$f":"'別紙２－(２)【短時間正規雇用導入支援】'!F16","v":0},{"v":0,"d":"0 "}]
[{"$nulls":6},"１２月",null,{"$f":"'別紙２－(２)【短時間正規雇用導入支援】'!F17","v":0},{"v":0,"d":"0 "}]
[{"$nulls":6},"１月",{"$f":"IF('別紙２－(２)【短時間正規雇用導入支援】'!D18=0,0,350000)","v":{"v":0,"d":"0 "}},{"$f":"'別紙２－(２)【短時間正規雇用導入支援】'!F18","v":0},{"v":0,"d":"0 "}]
[{"$nulls":6},"２月",{"$f":"IF('別紙２－(２)【短時間正規雇用導入支援】'!D19=0,0,350000)","v":{"v":0,"d":"0 "}},{"$f":"'別紙２－(２)【短時間正規雇用導入支援】'!F19","v":0},{"v":0,"d":"0 "}]
[{"$nulls":6},"３月",{"$f":"IF('別紙２－(２)【短時間正規雇用導入支援】'!D20=0,0,350000)","v":{"v":0,"d":"0 "}},{"$f":"'別紙２－(２)【短時間正規雇用導入支援】'!F20","v":0},{"v":0,"d":"0 "}]
[{"$nulls":6},"計",{"$f":"SUM(H8:H19)","v":{"v":0,"d":"0 "}},{"$f":"SUM(I8:I19)","v":0},{"$f":"SUM(J8:J19)","v":{"v":0,"d":"0 "}}]
[null,"合　計",{"$f":"SUM(C7:C20)","v":{"v":0,"d":"0 "}},"",{"$nulls":4},{"$f":"IF(I20=C21,\"○\",\"×\")","v":"○"},"↑　\n選定額"]
[{"$nulls":8},"↑支出済額と一致"]
["※ 　取組内容の一部が他の補助事業と重複する場合は、他の補助事業で計上している経費については、\n     当該事業の対象経費に含めないこと。"]
["※   算出内訳欄には単価×月数等の計算根拠を記載すること。"]

{"sheet":"別紙２－(２)【短時間正規雇用導入支援】","index":3,"n_rows":25,"n_cols":8,"rows_kept":25,"merged":[[0,0,0,7],[1,0,1,7],[2,0,2,7],[3,0,3,7],[4,0,4,7],[5,0,5,7],[6,0,7,0],[6,1,6,2],[6,3,7,4],[6,5,7,6],[6,7,7,7],[20,0,20,1],[21,0,21,7],[22,0,22,7],[23,0,23,7],[24,0,24,7]]}
["別紙２－(２)"]
[]
["女性医師等短時間正規雇用導入支援事業　事業実績報告書"]
[]
["(医療機関名：  　　　　　　　　　　　　　     )"]
[]
["月"," 短時間正規雇用制度により\n 雇用している女性医師等の氏名・年齢及び\n 診療科名",null,"勤務日数",null,"給与支給額",null,"備 考"]
[null,"氏名及び年齢","診療科名"]
["４","（　　歳）",null,null,"日",null,"円",""]
["５",{"$nulls":3},"日",null,"円",""]
["６",{"$nulls":3},"日",null,"円",""]
["７",{"$nulls":3},"日",null,"円",""]
["８",{"$nulls":3},"日",null,"円",""]
["９",{"$nulls":3},"日",null,"円",""]
[10,{"$nulls":3},"日",null,"円",""]
[11,{"$nulls":3},"日",null,"円",""]
[12,{"$nulls":3},"日",null,"円",""]
["１",{"$nulls":3},"日",null,"円",""]
["２",{"$nulls":3},"日",null,"円",""]
["３",{"$nulls":3},"日",null,"円",""]
["計",null,null,{"$f":"SUM(D9:D20)","v":0},"日",{"$f":"SUM(F9:F20)","v":{"v":0,"d":"0 "}},"円"]
[]
["※ 年度途中の採用・復職・退職の場合は、その状況を簡潔に備考欄に記載すること。(例：○月○日採用) "]
["※ 給与支給額については、年度内に当該医療機関から支給された額を記入すること。"]
["※ 年齢については、４月１日時点を記入すること。"]

{"sheet":"別紙２－(3)【短時間正規雇用導入支援】","index":4,"n_rows":44,"n_cols":32,"rows_kept":44,"merged":[[2,1,2,29],[2,31,2,59],[6,1,7,29],[7,31,9,59],[8,1,14,29],[10,31,21,59],[15,1,16,29],[17,1,28,29],[22,31,24,59],[25,31,36,59],[29,1,29,29],[30,1,34,29],[35,1,36,29],[37,1,42,29],[37,31,38,59],[39,31,50,59],[43,1,44,29],[45,1,50,29]]}
["別紙２－(３)",{"$nulls":29},"別紙２－(３)"]
[]
[null,"女性医師等短時間正規雇用導入支援事業　成果報告書",{"$nulls":29},"女性医師等短時間正規雇用導入支援事業　成果報告書"]
[]
[]
[]
[null,"１　女性医師等が子育てと仕事とを両立しやすい職場環境を整備していく上で、短時間正規雇用制\n　度の導入は、貴院においてどのような効果がありましたか。\n\n\n"]
[{"$nulls":31},"１　短時間正規雇用制度によって勤務していることについて、感想を教えてください。\n　（良かった点や、短時間正規雇用の形態により勤務することについて、他の職員との役割分担など\n　　の面で、気兼ねや不安感など率直な感想を記入してください。）\n\n\n"]
{"$rows_empty":7}
[null,"２　短時間正規雇用制度の導入に当たり、課題となったことは何ですか。また、どのように対応\n　しましたか。"]
[]
[null,"[課題]\n\n\n\n\n[対応]"]
[]
[]
[]
[]
[{"$nulls":31},"２　女性医師等は、出産・育児などにより、医師としての勤務を中断される場合がありますが、\n　医師としてのキャリア形成を考えた場合、短時間正規雇用制度が有意義であるかどうかなど、\n　御意見を記入してください。"]
[]
[]
[]
[]
[]
[]
[null,"３　今回、対象となった短時間正規雇用の女性医師等はどのように確保しましたか。\n\n"]
[]
[]
[]
[]
[]
[null,"４　短時間正規雇用制度の導入に当たっては、他の医師等の周囲のスタッフの理解が不可欠と考\n　えられますが、貴院では、どのような対応をされましたか。"]
[]
[{"$nulls":31},"３　短時間正規雇用制度に限らず、女性医師等が働きやすい職場環境を整備していくためには、行\n　政がどのような支援を行うのが効果的だと思いますか。御意見を記入してください。"]
[]
[]
[]
[]
[]
[null,"５　短時間正規雇用制度に限らず、女性医師等が子育てと仕事とを両立しやすい職場環境を整備し\n ていくために、どのような支援策があれば効果的だとお考えですか。御意見を記入してください。"]

{"sheet":"別紙３－(１)【ベビーシッター等活用支援】","index":5,"n_rows":24,"n_cols":9,"rows_kept":24,"merged":[[0,0,0,4],[1,0,1,4],[2,0,2,4],[3,0,3,3],[4,0,4,4],[5,0,20,0],[5,4,20,4],[22,0,22,4],[23,0,23,4]]}
["別紙３－(１)"]
[]
["ベビーシッター等活用支援事業　精算額明細書"]
["(医療機関名：　　　　　　　　　    )"]
[{"$nulls":6},"※確認欄（事業者は記入不要です。）※複数名いる場合は、支出予定額は複数名合計額で考える。"]
[null,"区　分","支出済額(円)","算出内訳",{"$nulls":3},"基準額","選定額"]
[null,null,"","",null,null,"４月",{"$f":"IF('別紙３－(２)【ベビーシッター等活用支援】'!F11=0,0,120000)","v":{"v":0,"d":"0 "}},{"$f":"MIN('別紙３－(２)【ベビーシッター等活用支援】'!H11,'別紙３－(２)【ベビーシッター等活用支援】'!I11)","v":{"v":0,"d":"0 "}}]
[{"$nulls":6},"５月",{"$f":"IF('別紙３－(２)【ベビーシッター等活用支援】'!F12=0,0,120000)","v":{"v":0,"d":"0 "}},{"$f":"MIN('別紙３－(２)【ベビーシッター等活用支援】'!H12,'別紙３－(２)【ベビーシッター等活用支援】'!I12)","v":{"v":0,"d":"0 "}}]
[{"$nulls":6},"６月",{"$f":"IF('別紙３－(２)【ベビーシッター等活用支援】'!F13=0,0,120000)","v":{"v":0,"d":"0 "}},{"$f":"MIN('別紙３－(２)【ベビーシッター等活用支援】'!H13,'別紙３－(２)【ベビーシッター等活用支援】'!I13)","v":{"v":0,"d":"0 "}}]
[{"$nulls":6},"７月",{"$f":"IF('別紙３－(２)【ベビーシッター等活用支援】'!F14=0,0,120000)","v":{"v":0,"d":"0 "}},{"$f":"MIN('別紙３－(２)【ベビーシッター等活用支援】'!H14,'別紙３－(２)【ベビーシッター等活用支援】'!I14)","v":{"v":0,"d":"0 "}}]
[{"$nulls":6},"８月",{"$f":"IF('別紙３－(２)【ベビーシッター等活用支援】'!F15=0,0,120000)","v":{"v":0,"d":"0 "}},{"$f":"MIN('別紙３－(２)【ベビーシッター等活用支援】'!H15,'別紙３－(２)【ベビーシッター等活用支援】'!I15)","v":{"v":0,"d":"0 "}}]
[{"$nulls":6},"９月",{"$f":"IF('別紙３－(２)【ベビーシッター等活用支援】'!F16=0,0,120000)","v":{"v":0,"d":"0 "}},{"$f":"MIN('別紙３－(２)【ベビーシッター等活用支援】'!H16,'別紙３－(２)【ベビーシッター等活用支援】'!I16)","v":{"v":0,"d":"0 "}}]
[{"$nulls":6},"１０月",{"$f":"IF('別紙３－(２)【ベビーシッター等活用支援】'!F17=0,0,120000)","v":{"v":0,"d":"0 "}},{"$f":"MIN('別紙３－(２)【ベビーシッター等活用支援】'!H17,'別紙３－(２)【ベビーシッター等活用支援】'!I17)","v":{"v":0,"d":"0 "}}]
[{"$nulls":6},"１１月",{"$f":"IF('別紙３－(２)【ベビーシッター等活用支援】'!F18=0,0,120000)","v":{"v":0,"d":"0 "}},{"$f":"MIN('別紙３－(２)【ベビーシッター等活用支援】'!H18,'別紙３－(２)【ベビーシッター等活用支援】'!I18)","v":{"v":0,"d":"0 "}}]
[{"$nulls":6},"１２月",{"$f":"IF('別紙３－(２)【ベビーシッター等活用支援】'!F19=0,0,120000)","v":{"v":0,"d":"0 "}},{"$f":"MIN('別紙３－(２)【ベビーシッター等活用支援】'!H19,'別紙３－(２)【ベビーシッター等活用支援】'!I19)","v":{"v":0,"d":"0 "}}]
[{"$nulls":6},"１月",{"$f":"IF('別紙３－(２)【ベビーシッター等活用支援】'!F20=0,0,120000)","v":{"v":0,"d":"0 "}},{"$f":"MIN('別紙３－(２)【ベビーシッター等活用支援】'!H20,'別紙３－(２)【ベビーシッター等活用支援】'!I20)","v":{"v":0,"d":"0 "}}]
[{"$nulls":6},"２月",{"$f":"IF('別紙３－(２)【ベビーシッター等活用支援】'!F21=0,0,120000)","v":{"v":0,"d":"0 "}},{"$f":"MIN('別紙３－(２)【ベビーシッター等活用支援】'!H21,'別紙３－(２)【ベビーシッター等活用支援】'!I21)","v":{"v":0,"d":"0 "}}]
[{"$nulls":6},"３月",{"$f":"IF('別紙３－(２)【ベビーシッター等活用支援】'!F22=0,0,120000)","v":{"v":0,"d":"0 "}},{"$f":"MIN('別紙３－(２)【ベビーシッター等活用支援】'!H22,'別紙３－(２)【ベビーシッター等活用支援】'!I22)","v":{"v":0,"d":"0 "}}]
[{"$nulls":6},"計",{"$f":"SUM(H7:H18)","v":{"v":0,"d":"0 "}},{"$f":"SUM(I7:I18)","v":{"v":0,"d":"0 "}}]
[]
[null,"合　計",null,""]
[]
["※ 取組内容の一部が他の補助事業と重複する場合は、他の補助事業で計上している経費については、\n　当該事業の対象経費に含めないこと。"]
["※ 算出内訳欄には単価×月数等の計算根拠を記載すること。"]

{"sheet":"別紙３－(２)【ベビーシッター等活用支援】","index":6,"n_rows":26,"n_cols":11,"rows_kept":26,"merged":[[0,0,0,10],[1,0,1,10],[2,0,2,10],[3,0,3,10],[4,1,4,10],[6,8,6,10],[8,0,8,10],[9,0,9,4],[9,5,9,7],[9,8,9,10],[10,0,10,4],[10,5,10,7],[10,8,10,9],[11,0,11,4],[11,5,11,7],[11,8,11,9],[12,0,12,4],[12,5,12,7],[12,8,12,9],[13,0,13,4],[13,5,13,7],[13,8,13,9],[14,0,14,4],[14,5,14,7],[14,8,14,9],[15,0,15,4],[15,5,15,7],[15,8,15,9],[16,0,16,4],[16,5,16,7],[16,8,16,9],[17,0,17,4],[17,5,17,7],[17,8,17,9],[18,0,18,4],[18,5,18,7],[18,8,18,9],[19,0,19,4],[19,5,19,7],[19,8,19,9],[20,0,20,4],[20,5,20,7],[20,8,20,9],[21,0,21,4],[21,5,21,7],[21,8,21,9],[22,0,22,6],[22,7,22,9],[23,0,23,10],[24,0,24,3],[24,4,24,7],[24,8,24,10],[25,0,25,2],[25,4,25,6],[25,8,25,9],[26,0,26,10]]}
["別紙３－(２)"]
["ベビーシッター等活用支援事業　事業実績報告書"]
["(医療機関名：    　　　　　　　　　　　　   )"]
[]
[null,"※ 助成の対象となる女性医師等ごとに記入してください。(この様式をコピーしてお使いください。)"]
[]
[{"$nulls":5},"対象女性医師等名"]
[]
["１ 利用した保育サービスの内訳"]
["保育サービスの内容",{"$nulls":4},"利用回数または\n利用日・利用時間",null,null,"利用料金"]
[{"$nulls":10},"円"]
[{"$nulls":10},"円"]
[{"$nulls":10},"円"]
["",{"$nulls":9},"円"]
["",{"$nulls":9},"円"]
["",{"$nulls":9},"円"]
["",{"$nulls":9},"円"]
["",{"$nulls":9},"円"]
["",{"$nulls":9},"円"]
["",{"$nulls":9},"円"]
["",{"$nulls":9},"円"]
["",{"$nulls":9},"円"]
["２ 利用した保育サービスの利用料金の合計\n　※　上記の「利用料金」の合計額を記入すること。\n　　　下記の「負担内訳」の合計と一致すること。",{"$nulls":6},{"$f":"SUM(I11:J22)","v":{"v":0,"d":"0 "}},null,null,"円"]
["３　負担内訳"]
["県補助金額",{"$nulls":3},"医療機関助成額",{"$nulls":3},"利用者負担額"]
[{"$nulls":3},"円",{"$nulls":3},"円",null,null,"円"]

{"sheet":"別紙3－(3)【ベビーシッター等活用支援】 ","index":7,"n_rows":39,"n_cols":32,"rows_kept":39,"merged":[[2,1,2,29],[2,31,2,59],[6,1,7,29],[7,31,9,59],[8,1,17,29],[10,31,21,59],[18,1,19,29],[20,1,37,29],[22,31,24,59],[25,31,36,59],[37,31,39,59],[38,1,40,29],[40,31,50,59],[41,1,50,29]]}
["別紙３－(３)",{"$nulls":29},"別紙３－(３)"]
[]
[null,"ベビーシッター等活用支援事業　成果報告書",{"$nulls":29},"ベビーシッター等活用支援事業　成果報告書"]
[]
[]
[]
[null,"１　女性医師等が子育てと仕事とを両立しやすい職場環境を整備していく上で、ベビーシッター\n　等の活用に対する助成制度の導入は、貴院においてどのような効果がありましたか。"]
[{"$nulls":31},"１　ベビーシッター等の活用に当たり病院から助成を受けたことについて、感想を教えてください。\n　（仕事と子育ての両立の視点、医療機関の姿勢、経済的なことなど、何でも結構ですので、率直\n　　な感想を記入してください。）"]
{"$rows_empty":10}
[null,"２　ベビーシッター等の活用に対する助成制度の導入にあたり、課題となったことは何ですか。\n　また、どのように対応しましたか。"]
[]
[null,"[課題]\n\n\n\n\n\n\n[対応]"]
[]
[{"$nulls":31},"２　女性医師等は、出産・育児などにより、医師としての勤務を中断される場合がありますが、\n　勤務を継続する上で、ベビーシッター等の活用に対する助成制度が有意義であるかどうかな\n　ど、御意見を記入してください。"]
{"$rows_empty":14}
[{"$nulls":31},"３　ベビーシッター等の活用に対する支援に限らず、女性医師等が働きやすい職場環境を整備し\n　ていくためには、行政がどのような支援を行うのが効果的だと思いますか。御意見を記入して\n　ください。"]
[null,"３　ベビーシッター等の活用支援に限らず、女性医師等が子育てと仕事を両立しやすい職場環境を\n　整備していくために、どのような支援策があれば効果的だとお考えですか。御意見を記入してく\n　ださい。"]

{"sheet":"別紙４－(１)【宿直等代替職員活用支援】","index":8,"n_rows":26,"n_cols":18,"rows_kept":26,"merged":[[0,0,0,4],[1,0,1,4],[2,0,2,4],[3,0,3,4],[4,0,4,4],[5,0,20,0],[5,4,20,4],[6,3,19,3],[14,6,14,9],[14,10,14,13],[14,14,14,17],[22,0,22,4],[23,0,23,4]]}
["別紙４－(１)"]
[]
["宿直等代替職員活用支援事業　精算額明細書"]
["(医療機関名：　　　　　　　　　　　    )"]
[]
[null,"区　分","支出済額(円)","算出内訳"]
{"$rows_empty":7}
[{"$nulls":6},"（確認用）※事業者は入力不要です。"]
[{"$nulls":6},"基　準　額\n(上限額を下回る月がない場合）",{"$nulls":3},"実支出額",{"$nulls":3},"選定額"]
[{"$nulls":6},"４月",{"$f":"IF('別紙４－(２)【宿直等代替職員活用支援】'!G27=0,0,200000)","v":{"v":0,"d":"0 "}},"10月",{"$f":"IF('別紙４－(２)【宿直等代替職員活用支援】'!N27=0,0,200000)","v":{"v":0,"d":"0 "}},"４月",{"$f":"SUM('別紙４－(２)【宿直等代替職員活用支援】'!I27)","v":{"v":0,"d":"0 "}},"10月",{"$f":"SUM('別紙４－(２)【宿直等代替職員活用支援】'!P27)","v":{"v":0,"d":"0 "}},"４月",{"$f":"MIN(H16,L16)","v":{"v":0,"d":"0 "}},"10月",{"$f":"MIN(J16,N16)","v":{"v":0,"d":"0 "}}]
[{"$nulls":6},"５月",{"$f":"IF('別紙４－(２)【宿直等代替職員活用支援】'!G28=0,0,200000)","v":{"v":0,"d":"0 "}},"11月",{"$f":"IF('別紙４－(２)【宿直等代替職員活用支援】'!N28=0,0,200000)","v":{"v":0,"d":"0 "}},"５月",{"$f":"SUM('別紙４－(２)【宿直等代替職員活用支援】'!I28)","v":{"v":0,"d":"0 "}},"11月",{"$f":"SUM('別紙４－(２)【宿直等代替職員活用支援】'!P28)","v":{"v":0,"d":"0 "}},"５月",{"v":0,"d":"0 "},"11月",{"v":0,"d":"0 "}]
[{"$nulls":6},"６月",{"$f":"IF('別紙４－(２)【宿直等代替職員活用支援】'!G29=0,0,200000)","v":{"v":0,"d":"0 "}},"12月",{"$f":"IF('別紙４－(２)【宿直等代替職員活用支援】'!N29=0,0,200000)","v":{"v":0,"d":"0 "}},"６月",{"$f":"SUM('別紙４－(２)【宿直等代替職員活用支援】'!I29)","v":{"v":0,"d":"0 "}},"12月",{"$f":"SUM('別紙４－(２)【宿直等代替職員活用支援】'!P29)","v":{"v":0,"d":"0 "}},"６月",{"v":0,"d":"0 "},"12月",{"v":0,"d":"0 "}]
[{"$nulls":6},"７月",{"$f":"IF('別紙４－(２)【宿直等代替職員活用支援】'!G30=0,0,200000)","v":{"v":0,"d":"0 "}},"１月",{"$f":"IF('別紙４－(２)【宿直等代替職員活用支援】'!N30=0,0,200000)","v":{"v":0,"d":"0 "}},"７月",{"$f":"SUM('別紙４－(２)【宿直等代替職員活用支援】'!I30)","v":{"v":0,"d":"0 "}},"１月",{"$f":"SUM('別紙４－(２)【宿直等代替職員活用支援】'!P30)","v":{"v":0,"d":"0 "}},"７月",{"v":0,"d":"0 "},"１月",{"v":0,"d":"0 "}]
[{"$nulls":6},"８月",{"$f":"IF('別紙４－(２)【宿直等代替職員活用支援】'!G31=0,0,200000)","v":{"v":0,"d":"0 "}},"２月",{"$f":"IF('別紙４－(２)【宿直等代替職員活用支援】'!N31=0,0,200000)","v":{"v":0,"d":"0 "}},"８月",{"$f":"SUM('別紙４－(２)【宿直等代替職員活用支援】'!I31)","v":{"v":0,"d":"0 "}},"２月",{"$f":"SUM('別紙４－(２)【宿直等代替職員活用支援】'!P31)","v":{"v":0,"d":"0 "}},"８月",{"v":0,"d":"0 "},"２月",{"v":0,"d":"0 "}]
[null,"合　計",{"$f":"SUM(C7:C20)","v":{"v":0,"d":"0 "}},"",null,null,"９月",{"$f":"IF('別紙４－(２)【宿直等代替職員活用支援】'!G32=0,0,200000)","v":{"v":0,"d":"0 "}},"３月",{"$f":"IF('別紙４－(２)【宿直等代替職員活用支援】'!N32=0,0,200000)","v":{"v":0,"d":"0 "}},"９月",{"$f":"SUM('別紙４－(２)【宿直等代替職員活用支援】'!I32)","v":{"v":0,"d":"0 "}},"３月",{"$f":"SUM('別紙４－(２)【宿直等代替職員活用支援】'!P32)","v":{"v":0,"d":"0 "}},"９月",{"v":0,"d":"0 "},"３月",{"v":0,"d":"0 "}]
[{"$nulls":6},"小計",{"$f":"SUM(H16:H21)","v":{"v":0,"d":"0 "}},"小計",{"$f":"SUM(J16:J21)","v":{"v":0,"d":"0 "}},"小計",{"$f":"SUM(L16:L21)","v":{"v":0,"d":"0 "}},"小計",{"$f":"SUM(N16:N21)","v":{"v":0,"d":"0 "}},"小計",{"$f":"SUM(P16:P21)","v":{"v":0,"d":"0 "}},"小計",{"$f":"SUM(R16:R21)","v":{"v":0,"d":"0 "}}]
["※ 取組内容の一部が他の補助事業と重複する場合は、他の補助事業で計上している経費に\n　ついては、当該事業の対象経費に含めないこと。",{"$nulls":5},"合計",{"$f":"H22+J22","v":{"v":0,"d":"0 "}},null,null,"合計",{"$f":"L22+N22","v":{"v":0,"d":"0 "}},null,null,"合計",{"$f":"P22+R22","v":{"v":0,"d":"0 "}}]
["※ 算出内訳欄には単価×月数等の計算根拠を記載すること。",{"$nulls":10},{"$f":"IF(L23=C21,\"○\",\"×\")","v":"○"},{"$nulls":3},"↑"]
[{"$nulls":11},"↑",{"$nulls":3},"選定額"]
[{"$nulls":11},"支払済額と一致"]

{"sheet":"別紙４－(２)【宿直等代替職員活用支援】","index":9,"n_rows":32,"n_cols":17,"rows_kept":32,"merged":[[0,0,0,15],[1,0,3,0],[1,1,1,15],[2,1,2,15],[3,1,3,15],[5,0,5,15],[6,0,10,1],[6,2,6,4],[6,5,6,9],[6,11,6,16],[7,2,9,4],[7,5,7,6],[7,7,7,16],[8,5,8,6],[8,7,8,16],[9,5,9,6],[9,7,9,16],[10,2,10,4],[10,5,10,16],[12,0,12,15],[13,1,13,15],[14,0,22,1],[14,2,14,4],[14,5,14,9],[14,11,14,16],[15,2,18,4],[15,5,15,6],[15,7,15,16],[16,5,16,6],[16,7,16,16],[17,5,17,16],[18,5,18,16],[19,2,19,4],[19,5,19,16],[20,2,20,4],[20,5,20,16],[21,2,22,4],[21,5,22,8],[21,9,22,9],[22,10,22,15],[24,0,24,15],[25,0,31,1],[25,3,25,5],[25,6,25,7],[25,8,25,9],[25,11,25,12],[25,13,25,14],[25,15,25,16],[26,3,26,4],[27,3,27,4],[28,3,28,4],[29,3,29,4],[30,3,30,4],[31,3,31,4],[32,0,32,1],[32,2,32,15]]}
["別紙４－(２)"]
[null,"宿直等代替職員活用支援事業　事業実績報告書"]
[null,"(医療機関名：    　　　　　　　　　     )"]
[null,"※ 宿直等を免除する女性医師等ごとに記入してください。（この様式をコピーしてお使いください。）"]
[]
["１ 対象女性医師等について"]
[null,null,"氏名及び年齢",null,null,"（　　歳）",{"$nulls":4},"診療科"]
[null,null,"勤務形態及び\n免除内容",null,null,"勤務形態： "]
[{"$nulls":5},"免除内容："]
[{"$nulls":5},"(記載例 )\n             ",null,"勤務形態：月～金 9:00～17:00\n免除内容：時間外勤務・宿日直免除"]
[null,null,"宿直等を免除\nしている（して\nいた）期間",null,null,"      年  月　　日 ～ 　　年　　月　　日"]
[]
["２ 代替職員について "]
[null,"　(複数の場合は、別紙に記入してください)"]
[null,null,"氏 名",{"$nulls":7},"診療科"]
[null,null,"勤務形態及び\n代替内容",null,null,"勤務形態： "]
[{"$nulls":5},"代替内容："]
[{"$nulls":5},"(記載例)勤務形態：毎週木・金の外来診療業務、木～金にかけての宿直業務(1月当たり4回程度)"]
[{"$nulls":5},"　　　　代替内容：宿直業務(1月あたり2回分)"]
[null,null,"雇用期間",null,null,"      年  月　　日 ～ 　　年　　月　　日"]
[null,null,"代替日"]
[null,null,"代替勤務に係る\n手当支給額",{"$nulls":6},"円","内訳（単価×代替勤務回数等）"]
[]
[]
["３ 宿直等免除の回数について"]
[null,null,"対象月","宿直等\n免除回数",null,null,"代替職員\n勤務回数",null,"手当支給額",null,"対象月","宿直等\n免除回数",null,"代替職員\n勤務回数",null,"手当支給額"]
[null,null,"４月",null,null,"回",null,"回",null,"円","10月",null,"回",null,"回",null,"円"]
[null,null,"５月",null,null,"回",null,"回",null,"円","11月",null,"回",null,"回",null,"円"]
[null,null,"６月",null,null,"回",null,"回",null,"円","12月",null,"回",null,"回",null,"円"]
[null,null,"７月",null,null,"回",null,"回",null,"円","１月",null,"回",null,"回",null,"円"]
[null,null,"８月",null,null,"回",null,"回",null,"円","２月",null,"回",null,"回",null,"円"]
[null,null,"９月",null,null,"回",null,"回",null,"円","３月",null,"回",null,"回",null,"円"]

{"sheet":"別紙４－(２)別紙（代替者複数）【宿直等代替職員活用支援】","index":10,"n_rows":32,"n_cols":11,"rows_kept":32,"merged":[[0,0,0,15],[1,1,1,15],[2,0,8,1],[2,2,2,4],[2,5,2,9],[2,11,2,16],[3,2,5,4],[3,5,3,6],[3,7,3,16],[4,5,4,6],[4,7,4,16],[5,5,5,16],[6,2,6,4],[6,5,6,16],[7,2,8,4],[7,5,8,8],[7,9,8,9],[8,10,8,15],[10,0,16,1],[10,2,10,4],[10,5,10,9],[10,11,10,16],[11,2,13,4],[11,5,11,6],[11,7,11,16],[12,5,12,6],[12,7,12,16],[13,5,13,16],[14,2,14,4],[14,5,14,16],[15,2,16,4],[15,5,16,8],[15,9,16,9],[16,10,16,15],[18,0,24,1],[18,2,18,4],[18,5,18,9],[18,11,18,16],[19,2,21,4],[19,5,19,6],[19,7,19,16],[20,5,20,6],[20,7,20,16],[21,5,21,16],[22,2,22,4],[22,5,22,16],[23,2,24,4],[23,5,24,8],[23,9,24,9],[24,10,24,15],[26,0,32,1],[26,2,26,4],[26,5,26,9],[26,11,26,16],[27,2,29,4],[27,5,27,6],[27,7,27,16],[28,5,28,6],[28,7,28,16],[29,5,29,16],[30,2,30,4],[30,5,30,16],[31,2,32,4],[31,5,32,8],[31,9,32,9],[32,10,32,15]]}
["別紙４－(２)別紙"]
[]
[null,null,"氏 名",{"$nulls":7},"診療科"]
[null,null,"勤務形態及び\n代替内容",null,null,"勤務形態： "]
[{"$nulls":5},"代替内容："]
[]
[null,null,"雇用期間",null,null,"令和　 年　 月　 日 ～ 令和　 年　 月　 日"]
[null,null,"代替勤務に係る\n手当支給額",{"$nulls":6},"円","内訳（単価×代替勤務回数等）"]
[]
[]
[null,null,"氏 名",{"$nulls":7},"診療科"]
[null,null,"勤務形態及び\n代替内容",null,null,"勤務形態： "]
[{"$nulls":5},"代替内容："]
[]
[null,null,"雇用期間",null,null,"令和　 年　 月　 日 ～ 令和　 年　 月　 日"]
[null,null,"代替勤務に係る\n手当支給額",{"$nulls":6},"円","内訳（単価×代替勤務回数等）"]
[]
[]
[null,null,"氏 名",{"$nulls":7},"診療科"]
[null,null,"勤務形態及び\n代替内容",null,null,"勤務形態： "]
[{"$nulls":5},"代替内容："]
[]
[null,null,"雇用期間",null,null,"令和　 年　 月　 日 ～ 令和　 年　 月　 日"]
[null,null,"代替勤務に係る\n手当支給額",{"$nulls":6},"円","内訳（単価×代替勤務回数等）"]
[]
[]
[null,null,"氏 名",{"$nulls":7},"診療科"]
[null,null,"勤務形態及び\n代替内容",null,null,"勤務形態： "]
[{"$nulls":5},"代替内容："]
[]
[null,null,"雇用期間",null,null,"令和　 年　 月　 日 ～ 令和　 年　 月　 日"]
[null,null,"代替勤務に係る\n手当支給額",{"$nulls":6},"円","内訳（単価×代替勤務回数等）"]

{"sheet":"別紙４－(3)【宿直等代替職員活用支援】 ","index":11,"n_rows":42,"n_cols":32,"rows_kept":42,"merged":[[2,1,2,29],[2,31,2,59],[6,1,7,29],[7,31,9,59],[8,1,14,29],[10,31,21,59],[15,1,16,29],[17,1,30,29],[22,31,24,59],[25,31,36,59],[31,1,32,29],[33,1,40,29],[37,31,38,59],[39,31,50,59],[41,1,42,29],[43,1,50,29]]}
["別紙４－(３)",{"$nulls":29},"別紙４－(３)"]
[]
[null,"宿直等代替職員活用支援事業　成果報告書",{"$nulls":29},"宿直等代替職員活用支援事業　成果報告書"]
[]
[]
[]
[null,"１　女性医師等が子育てと仕事とを両立しやすい職場環境を整備していく上で、宿直等代替職員\n　の活用は、貴院においてどのような効果がありましたか。"]
[{"$nulls":31},"１　宿直等を免除され、代替の医師が宿直等に勤務することについて、感想を教えてください。\n　（良かった点や、宿直等を免除されることについて、代替で勤務する医師等に対する気兼ねなど\n　　率直な感想を記入してください。）"]
{"$rows_empty":7}
[null,"２　宿直等代替職員の活用にあたり、課題となったことは何ですか。また、どのように対応しま\n　したか。"]
[]
[null,"[課題]\n\n\n\n\n[対応]"]
[]
[]
[]
[]
[{"$nulls":31},"２　女性医師等は、出産・育児などにより、医師としての勤務を中断される場合がありますが、\n　勤務を継続する上で、宿直等代替職員の活用が有意義であるかどうかなど、御意見を記入して\n　ください。"]
{"$rows_empty":8}
[null,"３　宿直等代替職員の活用に当たっては、代替で宿直等に勤務する医師をはじめ、周囲のスタッフ\n　の理解が不可欠と考えられますが、貴院では、どのような対応をされましたか。"]
[]
[]
[]
[]
[]
[{"$nulls":31},"３　宿直等代替職員の活用に限らず、女性医師等が働きやすい職場環境を整備していくために\n　は、行政がどのような支援を行うのが効果的だと思いますか。御意見を記入してください。"]
[]
[]
[]
[null,"４　宿直等代替職員の活用に限らず、女性医師等が子育てと仕事とを両立しやすい職場環境を整備し\n　ていくために、どのような支援策があれば効果的だとお考えですか。御意見を記入してください。"]